BEGIN:VCALENDAR
VERSION:2.0
PRODID:icalendar-ruby
CALSCALE:GREGORIAN
METHOD:PUBLISH
BEGIN:VEVENT
DTSTAMP:20260423T022955Z
UID:46-1239743@flcwilliston.com
DTSTART:20260924T183000Z
DTEND:20260924T193000Z
CLASS:PUBLIC
CREATED:20260422T204551
DESCRIPTION:Pray\, Knit\, &amp\; Chat
LAST-MODIFIED:20260422T204551
LOCATION:FLC Parlor
SUMMARY:Pray\, Knit/Crochet & Chat
URL;VALUE=URI:https://flcwilliston.com/events/pray-knit-crochet-chat/2026-0
 9-24
END:VEVENT
END:VCALENDAR
