BEGIN:VCALENDAR
VERSION:2.0
PRODID:icalendar-ruby
CALSCALE:GREGORIAN
METHOD:PUBLISH
BEGIN:VEVENT
DTSTAMP:20260423T040432Z
UID:46-1239744@flcwilliston.com
DTSTART:20261001T183000Z
DTEND:20261001T193000Z
CLASS:PUBLIC
CREATED:20260422T204551
DESCRIPTION:Pray\, Knit\, &amp\; Chat
LAST-MODIFIED:20260422T204551
LOCATION:FLC Parlor
SUMMARY:Pray\, Knit/Crochet & Chat
URL;VALUE=URI:https://flcwilliston.com/events/pray-knit-crochet-chat/2026-1
 0-01
END:VEVENT
END:VCALENDAR
