BEGIN:VCALENDAR
VERSION:2.0
PRODID:icalendar-ruby
CALSCALE:GREGORIAN
METHOD:PUBLISH
BEGIN:VEVENT
DTSTAMP:20260424T081928Z
UID:65-1245987@flcwilliston.com
DTSTART:20261012T180000Z
DTEND:20261012T200000Z
CLASS:PUBLIC
CREATED:20260423T204748
DESCRIPTION:
LAST-MODIFIED:20260423T204748
LOCATION:Quilting Room
SUMMARY:Quilting for Adults
URL;VALUE=URI:https://flcwilliston.com/events/quilting-for-adults/2026-10-1
 2
ATTACH;FILENAME=quilt.jpg;FMTTYPE=image/jpeg:https://dq5pwpg1q8ru0.cloudfro
 nt.net/2024/11/13/21/16/29/9187f57b-022d-457d-bff0-461d51d93467/quilt.jpg
END:VEVENT
END:VCALENDAR
